BEGIN:VCALENDAR
VERSION:2.0
METHOD:PUBLISH
X-WR-CALNAME;VALUE=TEXT:
PRODID:-//Drupal iCal API//EN
BEGIN:VEVENT
2026-04-21 07:30:00 AEST
2026-04-21 09:00:00 AEST
DTSTART:20260420T213000Z
DTEND:20260420T230000Z
SUMMARY:2026 ST Lee Lecture - Judicial independence in modern society: The Malaysian experience
UID:805cc251-282c-4622-92ee-78c7c17a47b6
URL:https://www.anu.edu.au/events/2026-st-lee-lecture-judicial-independence-in-modern-society-the-malaysian-experience
END:VEVENT
END:VCALENDAR
