BEGIN:VCALENDAR
VERSION:2.0
METHOD:PUBLISH
X-WR-CALNAME;VALUE=TEXT:
PRODID:-//Drupal iCal API//EN
BEGIN:VEVENT
2026-04-28 07:30:00 AEST
2026-04-28 09:30:00 AEST
DTSTART:20260427T213000Z
DTEND:20260427T233000Z
SUMMARY:Book Launch | ‘The Chosen Race: Troubling Whiteness in Victorian Painting’ (University of California Press) by Keren Hammerschlag
UID:1ddf4ec2-9d82-4629-8009-4f1bfeb06265
URL:https://www.anu.edu.au/events/book-launch-the-chosen-race-troubling-whiteness-in-victorian-painting-university-of-california
END:VEVENT
END:VCALENDAR
