BEGIN:VCALENDAR
VERSION:2.0
METHOD:PUBLISH
X-WR-CALNAME;VALUE=TEXT:
PRODID:-//Drupal iCal API//EN
BEGIN:VEVENT
2026-05-18 08:00:00 AEST
2026-05-18 09:00:00 AEST
DTSTART:20260517T220000Z
DTEND:20260517T230000Z
SUMMARY:Meet the author - Joshua Black, Frank Bongiorno, Marija Taflaga and Peter Yu
UID:4f77d455-1abe-4504-bd69-5705b3180b63
URL:https://www.anu.edu.au/events/meet-the-author-joshua-black-frank-bongiorno-marija-taflaga-and-peter-yu
END:VEVENT
END:VCALENDAR
